BEGIN:VCALENDAR
VERSION:2.0
PRODID:-//York Environment Festival - ECPv6.15.20//NONSGML v1.0//EN
CALSCALE:GREGORIAN
METHOD:PUBLISH
X-WR-CALNAME:York Environment Festival
X-ORIGINAL-URL:https://yorkenvironmentfestival.org.uk
X-WR-CALDESC:Events for York Environment Festival
REFRESH-INTERVAL;VALUE=DURATION:PT1H
X-Robots-Tag:noindex
X-PUBLISHED-TTL:PT1H
BEGIN:VTIMEZONE
TZID:UTC
BEGIN:STANDARD
TZOFFSETFROM:+0000
TZOFFSETTO:+0000
TZNAME:UTC
DTSTART:20230101T000000
END:STANDARD
END:VTIMEZONE
BEGIN:VEVENT
DTSTART;TZID=UTC:20240928T193000
DTEND;TZID=UTC:20240928T204500
DTSTAMP:20260420T221209
CREATED:20240829T202010Z
LAST-MODIFIED:20260304T230223Z
UID:10000158-1727551800-1727556300@yorkenvironmentfestival.org.uk
SUMMARY:JGS+ jazz trio present: The Useless Tree (premiere performance) CANCELLED DUE TO UNFORESEEN CIRCUMSTANCES
DESCRIPTION:THIS PERFORMANCE HAS BEEN CANCELLED DUE TO UNFORESEEN CIRCUMSTANCES BEYOND THE PERFORMERS CONTROL. WE APOLOGISE  TO EVERYONE WHO WAS INTENDING TO BE THERE.  \nPremiere of a jazz trio piece of music called The Useless Tree (after the Buddhist fable about humanity’s relationship to nature)\, a live performance of the suite for York Environment Weeks at the Unitarian Chapel on St Saviourgate .\n \nProgramme: \nThe Useless Tree (50′) \nI. ode to the timber in our hands \nII. homo inscius \nIII. look until you see something \nIV. just because we shouldn’t do it doesn’t mean we shouldn’t \n  \nFeaturing: Sam Johnson (of the Sam Johnson Trio); Georgia Johnson; James Wood. \nThere will be an opportunity for a Q+A at the end.
URL:https://yorkenvironmentfestival.org.uk/event/jgs-jazz-trio-useless-tree-premiere/
LOCATION:York Unitarian Chapel\, 31 St Saviourgate\, York\, Yorkshire\, YO1 8NQ\, United Kingdom
ATTACH;FMTTYPE=image/jpeg:https://yorkenvironmentfestival.org.uk/wp-content/uploads/2024/08/Copy-of-IMG-20231219-WA0025-1-e1725054345762.jpg
ORGANIZER;CN="JGS+":MAILTO:93james.wood@gmail.com
END:VEVENT
END:VCALENDAR