BEGIN:VCALENDAR
VERSION:2.0
PRODID:-//York Environment Festival - ECPv6.15.20//NONSGML v1.0//EN
CALSCALE:GREGORIAN
METHOD:PUBLISH
X-WR-CALNAME:York Environment Festival
X-ORIGINAL-URL:https://yorkenvironmentfestival.org.uk
X-WR-CALDESC:Events for York Environment Festival
REFRESH-INTERVAL;VALUE=DURATION:PT1H
X-Robots-Tag:noindex
X-PUBLISHED-TTL:PT1H
BEGIN:VTIMEZONE
TZID:UTC
BEGIN:STANDARD
TZOFFSETFROM:+0000
TZOFFSETTO:+0000
TZNAME:UTC
DTSTART:20240101T000000
END:STANDARD
END:VTIMEZONE
BEGIN:VEVENT
DTSTART;TZID=UTC:20251023T130000
DTEND;TZID=UTC:20251023T140000
DTSTAMP:20260419T210824
CREATED:20250822T125056Z
LAST-MODIFIED:20260304T225944Z
UID:10000262-1761224400-1761228000@yorkenvironmentfestival.org.uk
SUMMARY:Heritage & the Environment @ York Minster
DESCRIPTION:A walking tour of the York Minster precinct taking in the projects established in its Neighbourhood Plan\, including its new Centre of Excellence for Heritage Craft Skills and Estates Management\, focused on work to protect its heritage estate\, craft skills\, and the environment\, such as renewable energy initiatives and combatting damage caused by increased rainfall. The tour will appeal to those interested in heritage but also with a concern about our rapidly changing environment. \nSuitable for ages 18+ \nBooking is required for this event and can be done by email to works@yorkminster.org \nBlue badge parking available on Deangate
URL:https://yorkenvironmentfestival.org.uk/event/heritage-and-the-environment-york-minster/
LOCATION:York Minster Works and Technology Hub\, 4 Deangate\, York\, YO1 7JA\, United Kingdom
CATEGORIES:Building Sustainably,Sustainable Business
ATTACH;FMTTYPE=image/jpeg:https://yorkenvironmentfestival.org.uk/wp-content/uploads/2025/08/3-YM-NetZero-tour.jpg
END:VEVENT
END:VCALENDAR