BEGIN:VCALENDAR
VERSION:2.0
PRODID:-//York Environment Festival - ECPv6.15.20//NONSGML v1.0//EN
CALSCALE:GREGORIAN
METHOD:PUBLISH
X-ORIGINAL-URL:https://yorkenvironmentfestival.org.uk
X-WR-CALDESC:Events for York Environment Festival
REFRESH-INTERVAL;VALUE=DURATION:PT1H
X-Robots-Tag:noindex
X-PUBLISHED-TTL:PT1H
BEGIN:VTIMEZONE
TZID:UTC
BEGIN:STANDARD
TZOFFSETFROM:+0000
TZOFFSETTO:+0000
TZNAME:UTC
DTSTART:20230101T000000
END:STANDARD
END:VTIMEZONE
BEGIN:VEVENT
DTSTART;TZID=UTC:20251012T130000
DTEND;TZID=UTC:20251012T143000
DTSTAMP:20260420T005908
CREATED:20250820T201327Z
LAST-MODIFIED:20260304T224635Z
UID:10000236-1760274000-1760279400@yorkenvironmentfestival.org.uk
SUMMARY:Fantastic Fungi - Searching for Mushrooms in a Semi-Urban Landscape
DESCRIPTION:This easy nature walk across the University of York campus is perfect for anyone interested in learning more about local fungi species\, requiring no prior knowledge! There will be lots of opportunity to stop and look for mushrooms in some key fungi hotspots\, and to ask any questions you may have. \nFor those who came last year\, this will be the exact same walk. However\, since nature is unpredictable\, we will likely spot some new species\, and there is always more to learn! \nSuitable for all ages. \nNo booking required. \nThe walk will begin at the east entrance to the biology department on the University of York campus\, Heslington\, YO10 (Coordinates: 53.947774\, -1.056132; What3Words: tigers.able.sunset) \n  \n 
URL:https://yorkenvironmentfestival.org.uk/event/fantastic-fungi/2025-10-12/
LOCATION:Biology Department\, University of York\, Biology Department\, University of\, York\, YO10 5DD
CATEGORIES:Learning,Out In Nature
ATTACH;FMTTYPE=image/jpeg:https://yorkenvironmentfestival.org.uk/wp-content/uploads/2024/08/mushroom.jpg
END:VEVENT
BEGIN:VEVENT
DTSTART;TZID=UTC:20251011T130000
DTEND;TZID=UTC:20251011T143000
DTSTAMP:20260420T005908
CREATED:20250820T201327Z
LAST-MODIFIED:20260304T224635Z
UID:10000235-1760187600-1760193000@yorkenvironmentfestival.org.uk
SUMMARY:Fantastic Fungi - Searching for Mushrooms in a Semi-Urban Landscape
DESCRIPTION:This easy nature walk across the University of York campus is perfect for anyone interested in learning more about local fungi species\, requiring no prior knowledge! There will be lots of opportunity to stop and look for mushrooms in some key fungi hotspots\, and to ask any questions you may have. \nFor those who came last year\, this will be the exact same walk. However\, since nature is unpredictable\, we will likely spot some new species\, and there is always more to learn! \nSuitable for all ages. \nNo booking required. \nThe walk will begin at the east entrance to the biology department on the University of York campus\, Heslington\, YO10 (Coordinates: 53.947774\, -1.056132; What3Words: tigers.able.sunset) \n  \n 
URL:https://yorkenvironmentfestival.org.uk/event/fantastic-fungi/2025-10-11/
LOCATION:Biology Department\, University of York\, Biology Department\, University of\, York\, YO10 5DD
CATEGORIES:Learning,Out In Nature
ATTACH;FMTTYPE=image/jpeg:https://yorkenvironmentfestival.org.uk/wp-content/uploads/2024/08/mushroom.jpg
END:VEVENT
BEGIN:VEVENT
DTSTART;TZID=UTC:20241006T120000
DTEND;TZID=UTC:20241006T150000
DTSTAMP:20260420T005908
CREATED:20240830T160007Z
LAST-MODIFIED:20260304T230316Z
UID:10000139-1728216000-1728226800@yorkenvironmentfestival.org.uk
SUMMARY:Marvellous Mushrooms: Appreciating Fungi in a Semi-Urban Landscape
DESCRIPTION:This easy circular walk is perfect for anyone interested in learning more about their local environment\, requiring no prior knowledge! There will be lots of opportunity to stop and look for mushrooms in some key fungi hotspots. \nOur goal is to observe and learn about different species we find\, so we will not be picking any mushrooms. As a student completing my biology masters (focusing on mycology)\, feel free to ask me lots of questions! \nThe walks take place on Saturday 5th and Sunday 6th October from 12:00 – 15:00. We’ll be starting and finishing by the Biology Department\, University of York\, East entrance. \nNo booking required.
URL:https://yorkenvironmentfestival.org.uk/event/marvellous-mushrooms/2024-10-06/
LOCATION:Biology Department\, University of York\, Biology Department\, University of\, York\, YO10 5DD
ATTACH;FMTTYPE=image/jpeg:https://yorkenvironmentfestival.org.uk/wp-content/uploads/2024/08/mushroom.jpg
END:VEVENT
BEGIN:VEVENT
DTSTART;TZID=UTC:20241005T120000
DTEND;TZID=UTC:20241005T150000
DTSTAMP:20260420T005908
CREATED:20240830T160007Z
LAST-MODIFIED:20260304T230316Z
UID:10000138-1728129600-1728140400@yorkenvironmentfestival.org.uk
SUMMARY:Marvellous Mushrooms: Appreciating Fungi in a Semi-Urban Landscape
DESCRIPTION:This easy circular walk is perfect for anyone interested in learning more about their local environment\, requiring no prior knowledge! There will be lots of opportunity to stop and look for mushrooms in some key fungi hotspots. \nOur goal is to observe and learn about different species we find\, so we will not be picking any mushrooms. As a student completing my biology masters (focusing on mycology)\, feel free to ask me lots of questions! \nThe walks take place on Saturday 5th and Sunday 6th October from 12:00 – 15:00. We’ll be starting and finishing by the Biology Department\, University of York\, East entrance. \nNo booking required.
URL:https://yorkenvironmentfestival.org.uk/event/marvellous-mushrooms/2024-10-05/
LOCATION:Biology Department\, University of York\, Biology Department\, University of\, York\, YO10 5DD
ATTACH;FMTTYPE=image/jpeg:https://yorkenvironmentfestival.org.uk/wp-content/uploads/2024/08/mushroom.jpg
END:VEVENT
END:VCALENDAR