BEGIN:VCALENDAR
VERSION:2.0
PRODID:-//York Environment Festival - ECPv6.15.20//NONSGML v1.0//EN
CALSCALE:GREGORIAN
METHOD:PUBLISH
X-ORIGINAL-URL:https://yorkenvironmentfestival.org.uk
X-WR-CALDESC:Events for York Environment Festival
REFRESH-INTERVAL;VALUE=DURATION:PT1H
X-Robots-Tag:noindex
X-PUBLISHED-TTL:PT1H
BEGIN:VTIMEZONE
TZID:UTC
BEGIN:STANDARD
TZOFFSETFROM:+0000
TZOFFSETTO:+0000
TZNAME:UTC
DTSTART:20240101T000000
END:STANDARD
END:VTIMEZONE
BEGIN:VEVENT
DTSTART;TZID=UTC:20251005T120000
DTEND;TZID=UTC:20251005T150000
DTSTAMP:20260421T141413
CREATED:20250827T210803Z
LAST-MODIFIED:20260304T221727Z
UID:10000292-1759665600-1759676400@yorkenvironmentfestival.org.uk
SUMMARY:Street-re-Cycle
DESCRIPTION:An opportunity for households to do some clearing out and passing on of things to others. There’ll be a trail of households in the South Bank area of York\, noon to 3pm on Sunday 5 October. Householders can give things away\, swap them or sell them. \nSuitable for all ages. \nAll are welcome to drop in\, however booking is required for households who are taking part and can be done by emailing info@planetsouthbank.org.uk. Deadline for booking is 6pm on the 1st of October. \nAddresses for the trail will be published on the day of the event. More details can be found on the event’s website.
URL:https://yorkenvironmentfestival.org.uk/event/street-re-cycle/
LOCATION:South Bank\, York\, South Bank\, York\, YO23 1FA
CATEGORIES:Family-friendly,Sustainable Living
ATTACH;FMTTYPE=image/jpeg:https://yorkenvironmentfestival.org.uk/wp-content/uploads/2025/08/street-re-cycle.jpg
END:VEVENT
END:VCALENDAR