BEGIN:VCALENDAR
VERSION:2.0
PRODID:-//York Environment Festival - ECPv6.15.20//NONSGML v1.0//EN
CALSCALE:GREGORIAN
METHOD:PUBLISH
X-ORIGINAL-URL:https://yorkenvironmentfestival.org.uk
X-WR-CALDESC:Events for York Environment Festival
REFRESH-INTERVAL;VALUE=DURATION:PT1H
X-Robots-Tag:noindex
X-PUBLISHED-TTL:PT1H
BEGIN:VTIMEZONE
TZID:UTC
BEGIN:STANDARD
TZOFFSETFROM:+0000
TZOFFSETTO:+0000
TZNAME:UTC
DTSTART:20240101T000000
END:STANDARD
END:VTIMEZONE
BEGIN:VEVENT
DTSTART;TZID=UTC:20251101T110000
DTEND;TZID=UTC:20251101T130000
DTSTAMP:20260420T005431
CREATED:20250829T205357Z
LAST-MODIFIED:20251029T183929Z
UID:10000280-1761994800-1762002000@yorkenvironmentfestival.org.uk
SUMMARY:CANCELLED - Lowfield Green Housing Cooperative | Open Day
DESCRIPTION:UPDATE – THIS EVENT IS CANCELLED \nUnfortunately due to unforeseen circumstances\, the green housing open day scheduled for November 1st has been cancelled. Watch this space for updates\, as the organiser hopes to reorganise in the new year. \nThe first 14 households have just moved in! \nAs part of York Environment Festival we invite you to our very first open house. \nCome and visit York’s first co-housing project\, 10+ years in the making. Whether you’ve been following the long journey so far or have just heard about us\, come along. \nGet a tour of the site\, including our communal outdoor area as well as a tour in one of the homes built to a really high Passivhaus standard. Hear from residents about the early days of living together. \nBooking required. Please book here. \nChildren must be accompanied by adults. \nMeet on the green. \n 
URL:https://yorkenvironmentfestival.org.uk/event/lowfield-green-housing-cooperative-open-day/
LOCATION:Lowfield Green\, Restharrow Road\, York\, YO24 3FT\, United Kingdom
CATEGORIES:Building Sustainably,Sustainable Living
ATTACH;FMTTYPE=image/jpeg:https://yorkenvironmentfestival.org.uk/wp-content/uploads/2025/08/Lowfield-green-open-house-YEF-scaled.jpeg
END:VEVENT
END:VCALENDAR