BEGIN:VCALENDAR
VERSION:2.0
PRODID:-//York Environment Festival - ECPv6.15.20//NONSGML v1.0//EN
CALSCALE:GREGORIAN
METHOD:PUBLISH
X-WR-CALNAME:York Environment Festival
X-ORIGINAL-URL:https://yorkenvironmentfestival.org.uk
X-WR-CALDESC:Events for York Environment Festival
REFRESH-INTERVAL;VALUE=DURATION:PT1H
X-Robots-Tag:noindex
X-PUBLISHED-TTL:PT1H
BEGIN:VTIMEZONE
TZID:UTC
BEGIN:STANDARD
TZOFFSETFROM:+0000
TZOFFSETTO:+0000
TZNAME:UTC
DTSTART:20230101T000000
END:STANDARD
END:VTIMEZONE
BEGIN:VEVENT
DTSTART;TZID=UTC:20240928T140000
DTEND;TZID=UTC:20240928T153000
DTSTAMP:20260420T221128
CREATED:20240829T211035Z
LAST-MODIFIED:20260304T225516Z
UID:10000194-1727532000-1727537400@yorkenvironmentfestival.org.uk
SUMMARY:Green for Now and for the Future: Eco Fair (Huntington Methodist Church)
DESCRIPTION:North York Church are hosting a series of events across York as part of York Environment Weeks. There are a wide range of activities over a number of sites—talks\, upcycling workshops\, nature trails\, a Repair Café\, a Reflection Space and Lego Church. \nSo much to do and something for everyone! \nMany events are drop-in: just turn up and see what’s going on. \nCome along to Huntington Methodist Church\, between 14:00 and 15:30 on Saturday 28th September\, and take part in our Lego Church Creation! \nCome and get creative on a theme of Creation. We will tell the Creation story from the Bible and then everyone will have the chance to build something in Lego inspired by the story. This will be followed by a time of sharing everyone’s models and an opportunity to reflect on how we are looking after our planet today. This activity is particularly suited to families with primary school age children but everyone is welcome.  \nParking is limited to accessible parking\, but you will be able to park in the nearby streets. \nAll events are free\, but you’re welcome to make a donation on the day to help cover the cost of putting the event on. \nFor more information on these and other Eco Fair events\, visit our website: www.hwmc.org.uk/ecochurch
URL:https://yorkenvironmentfestival.org.uk/event/eco-fair-huntington/
LOCATION:Huntington Methodist Church\, Huntington Methodist Church\, Strensall Road\, Huntington\, York\, YO32 9SH
ATTACH;FMTTYPE=image/png:https://yorkenvironmentfestival.org.uk/wp-content/uploads/2024/08/Green-For-Now-Logo.png
END:VEVENT
END:VCALENDAR