BEGIN:VCALENDAR
VERSION:2.0
PRODID:-//York Environment Festival - ECPv6.15.20//NONSGML v1.0//EN
CALSCALE:GREGORIAN
METHOD:PUBLISH
X-ORIGINAL-URL:https://yorkenvironmentfestival.org.uk
X-WR-CALDESC:Events for York Environment Festival
REFRESH-INTERVAL;VALUE=DURATION:PT1H
X-Robots-Tag:noindex
X-PUBLISHED-TTL:PT1H
BEGIN:VTIMEZONE
TZID:UTC
BEGIN:STANDARD
TZOFFSETFROM:+0000
TZOFFSETTO:+0000
TZNAME:UTC
DTSTART:20230101T000000
END:STANDARD
END:VTIMEZONE
BEGIN:VEVENT
DTSTART;TZID=UTC:20241006T100000
DTEND;TZID=UTC:20241006T120000
DTSTAMP:20260419T133235
CREATED:20240830T202632Z
LAST-MODIFIED:20240902T080943Z
UID:10000137-1728208800-1728216000@yorkenvironmentfestival.org.uk
SUMMARY:Explore York: Urban Becks Restoration Project
DESCRIPTION:Join the Green Corridors York Team for a walk along Tang Hall Beck through former wetland meadow\, Heworth Holme. Meet at the site entrance on Bad Bargain Lane\, next to 1st Heworth Scout Hut. \nThrough the York Urban Becks project\, the beck banks will undergo some reprofiling as part of a beck restoration scheme. This walk will give people the opportunity to see the plans for the work before it happens and find out more about the positive impact it will have for wildlife and the local community. \nThis event is perfect for anyone interested in conservation. For ages 8+.
URL:https://yorkenvironmentfestival.org.uk/event/explore-york-urban-becks-restoration-project/
LOCATION:Heworth Holme\, 4 Bad Bargain Ln\, Tang Hall\, York YO31 0QZ\, YO31 0QZ
CATEGORIES:York Opens Green Spaces
ATTACH;FMTTYPE=image/jpeg:https://yorkenvironmentfestival.org.uk/wp-content/uploads/2024/08/Heworth-Holme-picture-YEW--scaled-e1725049660212.jpg
END:VEVENT
END:VCALENDAR