BEGIN:VCALENDAR
VERSION:2.0
PRODID:-//York Environment Festival - ECPv6.15.20//NONSGML v1.0//EN
CALSCALE:GREGORIAN
METHOD:PUBLISH
X-WR-CALNAME:York Environment Festival
X-ORIGINAL-URL:https://yorkenvironmentfestival.org.uk
X-WR-CALDESC:Events for York Environment Festival
REFRESH-INTERVAL;VALUE=DURATION:PT1H
X-Robots-Tag:noindex
X-PUBLISHED-TTL:PT1H
BEGIN:VTIMEZONE
TZID:UTC
BEGIN:STANDARD
TZOFFSETFROM:+0000
TZOFFSETTO:+0000
TZNAME:UTC
DTSTART:20240101T000000
END:STANDARD
END:VTIMEZONE
BEGIN:VEVENT
DTSTART;TZID=UTC:20250930T180000
DTEND;TZID=UTC:20250930T210000
DTSTAMP:20260420T023519
CREATED:20250818T211852Z
LAST-MODIFIED:20260304T230611Z
UID:10000242-1759255200-1759266000@yorkenvironmentfestival.org.uk
SUMMARY:People\, Planet\, Pint: York Environment Festival Edition
DESCRIPTION:No pitches\, PowerPoints or panels. Just People\, Planet\, Pint/s. \nYour local meetup is a great place to start your journey or continue learning\, and meet diverse people to chat about life and how we can sustain it. Every job is a climate job\, so come along and learn about how you can take action\, as well as what is going on locally. \nNo age restrictions\, but event is located in a pub and includes alcohol. \nBooking is required and can be done here.
URL:https://yorkenvironmentfestival.org.uk/event/people-planet-pint/
LOCATION:Brew York\, Unit 6\, Enterprise Complex\, Walmgate\, York\, YO1 9TT\, United Kingdom
CATEGORIES:Socials
ATTACH;FMTTYPE=image/jpeg:https://yorkenvironmentfestival.org.uk/wp-content/uploads/2025/08/People-planet-pint.jpeg
END:VEVENT
END:VCALENDAR