BEGIN:VCALENDAR
VERSION:2.0
PRODID:-//York Environment Festival - ECPv6.15.20//NONSGML v1.0//EN
CALSCALE:GREGORIAN
METHOD:PUBLISH
X-ORIGINAL-URL:https://yorkenvironmentfestival.org.uk
X-WR-CALDESC:Events for York Environment Festival
REFRESH-INTERVAL;VALUE=DURATION:PT1H
X-Robots-Tag:noindex
X-PUBLISHED-TTL:PT1H
BEGIN:VTIMEZONE
TZID:UTC
BEGIN:STANDARD
TZOFFSETFROM:+0000
TZOFFSETTO:+0000
TZNAME:UTC
DTSTART:20230101T000000
END:STANDARD
END:VTIMEZONE
BEGIN:VEVENT
DTSTART;TZID=UTC:20240928T110000
DTEND;TZID=UTC:20240928T120000
DTSTAMP:20260420T201816
CREATED:20240830T192438Z
LAST-MODIFIED:20260304T224322Z
UID:10000126-1727521200-1727524800@yorkenvironmentfestival.org.uk
SUMMARY:Edible plants - Middle Ages meet 21st Century York
DESCRIPTION:Edible York’s ‘Barbican beds’ are close to where monks grew food years ago. Many crops are still grown in York. \nTrustee Emily Hansen will share her expert knowledge at this regular Saturday morning gardening session. This is a public spot and can be visited any time to appreciate the herbs and vegetables we have cultivated. \nFor all ages\, but children under 16 need an adult carer.
URL:https://yorkenvironmentfestival.org.uk/event/edible-plants-middle-ages-to-21st-century/
LOCATION:‘Barbican Beds’\, Fawcett Street\, York\, YO10 4AH
CATEGORIES:York Opens Green Spaces
ATTACH;FMTTYPE=image/jpeg:https://yorkenvironmentfestival.org.uk/wp-content/uploads/2024/08/IMG-0949.jpeg
END:VEVENT
END:VCALENDAR