BEGIN:VCALENDAR
VERSION:2.0
PRODID:-//York Environment Festival - ECPv6.15.20//NONSGML v1.0//EN
CALSCALE:GREGORIAN
METHOD:PUBLISH
X-WR-CALNAME:York Environment Festival
X-ORIGINAL-URL:https://yorkenvironmentfestival.org.uk
X-WR-CALDESC:Events for York Environment Festival
REFRESH-INTERVAL;VALUE=DURATION:PT1H
X-Robots-Tag:noindex
X-PUBLISHED-TTL:PT1H
BEGIN:VTIMEZONE
TZID:UTC
BEGIN:STANDARD
TZOFFSETFROM:+0000
TZOFFSETTO:+0000
TZNAME:UTC
DTSTART:20230101T000000
END:STANDARD
END:VTIMEZONE
BEGIN:VEVENT
DTSTART;TZID=UTC:20240929T110000
DTEND;TZID=UTC:20240929T150000
DTSTAMP:20260420T221208
CREATED:20240829T094853Z
LAST-MODIFIED:20260304T225318Z
UID:10000123-1727607600-1727622000@yorkenvironmentfestival.org.uk
SUMMARY:Explore York's Green Corridors - Guided walk to Naburn Lock Cafe
DESCRIPTION:Walk along the Solar System route and riverside path to Naburn Lock. Bring picnic or buy tea / lunch at Tea-by-the-Lock. Suitable for families and all ages comfortable with 7.5 mile round trip at easy pace. Traffic-free apart from a short section (under mile) on country road. \nPlease assemble at 10:45 for a 11:00 start at Askham Bar Park and Ride. \nFamily-friendly but under sixteen year olds should be accompanied by adult.  \nPlease book at: https://www.eventbrite.com/e/explore-yorks-green-corridors-on-foot-a-walk-along-the-solar-system-greenway-to-naburn-lock-tickets-1001549089287 \n 
URL:https://yorkenvironmentfestival.org.uk/event/green-corridors-guided-walk-naburn-lock/
LOCATION:Askham Bar Park and Ride\, Askham Bar Park and Ride\, York\, YO24 1LW
CATEGORIES:York Opens Green Spaces
ATTACH;FMTTYPE=image/jpeg:https://yorkenvironmentfestival.org.uk/wp-content/uploads/2024/08/USE-e1725054589807.jpg
END:VEVENT
END:VCALENDAR