BEGIN:VCALENDAR
VERSION:2.0
PRODID:-//York Environment Festival - ECPv6.15.20//NONSGML v1.0//EN
CALSCALE:GREGORIAN
METHOD:PUBLISH
X-ORIGINAL-URL:https://yorkenvironmentfestival.org.uk
X-WR-CALDESC:Events for York Environment Festival
REFRESH-INTERVAL;VALUE=DURATION:PT1H
X-Robots-Tag:noindex
X-PUBLISHED-TTL:PT1H
BEGIN:VTIMEZONE
TZID:UTC
BEGIN:STANDARD
TZOFFSETFROM:+0000
TZOFFSETTO:+0000
TZNAME:UTC
DTSTART:20230101T000000
END:STANDARD
END:VTIMEZONE
BEGIN:VEVENT
DTSTART;TZID=UTC:20240928T100000
DTEND;TZID=UTC:20240928T130000
DTSTAMP:20260420T201822
CREATED:20240830T104121Z
LAST-MODIFIED:20260304T223154Z
UID:10000070-1727517600-1727528400@yorkenvironmentfestival.org.uk
SUMMARY:ACT NOW! for a sustainable Acomb
DESCRIPTION:Drop in and join local businesses\, organisations and charities to explore how to live more sustainably in Acomb and West York. \nDiscover sustainable living tips\, eco-friendly products\, and green initiatives. Engage with local experts\, enjoy family-friendly activities\, and explore a variety of booths showcasing renewable energy\, zero-waste solutions\, and organic gardening. \nAll are welcome; no registration required. See you there! \n 
URL:https://yorkenvironmentfestival.org.uk/event/act-now-sustainable-acomb/
LOCATION:Acomb Parish Church\, Front St\, Acomb\, York\, YO24 3DW\, United Kingdom
ATTACH;FMTTYPE=image/jpeg:https://yorkenvironmentfestival.org.uk/wp-content/uploads/2024/08/IMG-20240821-WA0001-e1725053726156.jpg
END:VEVENT
END:VCALENDAR