BEGIN:VCALENDAR
VERSION:2.0
PRODID:-//York Environment Festival - ECPv6.15.20//NONSGML v1.0//EN
CALSCALE:GREGORIAN
METHOD:PUBLISH
X-WR-CALNAME:York Environment Festival
X-ORIGINAL-URL:https://yorkenvironmentfestival.org.uk
X-WR-CALDESC:Events for York Environment Festival
REFRESH-INTERVAL;VALUE=DURATION:PT1H
X-Robots-Tag:noindex
X-PUBLISHED-TTL:PT1H
BEGIN:VTIMEZONE
TZID:UTC
BEGIN:STANDARD
TZOFFSETFROM:+0000
TZOFFSETTO:+0000
TZNAME:UTC
DTSTART:20220101T000000
END:STANDARD
END:VTIMEZONE
BEGIN:VEVENT
DTSTART;TZID=UTC:20230927T180000
DTEND;TZID=UTC:20230927T193000
DTSTAMP:20260422T053149
CREATED:20230903T191908Z
LAST-MODIFIED:20260306T164659Z
UID:10000326-1695837600-1695843000@yorkenvironmentfestival.org.uk
SUMMARY:The Ants and the Grasshopper
DESCRIPTION:On Wednesday 27 September Friargate Quakers will be screening “The Ants and the Grasshopper”\, a moving eco documentary filmed in Malawi and the USA. It follows farmer Anita Chitaya in her efforts to change minds in her patriarchal village and beyond. \n\n\n\nThe film is 75 minutes\, and will be followed by refreshments and discussion. Donations will be collected in aid of the community organisation ‘Soil\, Food and Healthy Communities’ in Malawi\, which is mentioned in the film. \n\n\n\nThe venue is wheelchair accessible and a hearing loop is also available. \n\n\n\n\n\n\n\n\n\nhttps://www.eventbrite.co.uk/e/screening-and-discussion-the-ants-and-the-grasshopper-tickets-695615624057 
URL:https://yorkenvironmentfestival.org.uk/event/ants-and-the-grasshopper/
LOCATION:Friargate Quaker Meeting House\, Friargate Quaker Meeting House\, Friargate\, York\, YO1 9RL\, United Kingdom
ATTACH;FMTTYPE=:
END:VEVENT
END:VCALENDAR