BEGIN:VCALENDAR
VERSION:2.0
PRODID:-//York Environment Festival - ECPv6.15.20//NONSGML v1.0//EN
CALSCALE:GREGORIAN
METHOD:PUBLISH
X-WR-CALNAME:York Environment Festival
X-ORIGINAL-URL:https://yorkenvironmentfestival.org.uk
X-WR-CALDESC:Events for York Environment Festival
REFRESH-INTERVAL;VALUE=DURATION:PT1H
X-Robots-Tag:noindex
X-PUBLISHED-TTL:PT1H
BEGIN:VTIMEZONE
TZID:UTC
BEGIN:STANDARD
TZOFFSETFROM:+0000
TZOFFSETTO:+0000
TZNAME:UTC
DTSTART:20230101T000000
END:STANDARD
END:VTIMEZONE
BEGIN:VEVENT
DTSTART;TZID=UTC:20241005T160000
DTEND;TZID=UTC:20241005T173000
DTSTAMP:20260421T014249
CREATED:20240830T134351Z
LAST-MODIFIED:20260304T230453Z
UID:10000089-1728144000-1728149400@yorkenvironmentfestival.org.uk
SUMMARY:Nature walk on University of York Campus
DESCRIPTION:A guided visit to the campuses of the University of York\, wonderful green spaces in York for wildlife. \nThe lakes attract birds and dragonflies\, with meadowland for wild flowers and butterflies\, and Peregrine falcons bred here for the first time in 2024. \nWe will look for newly arrived wintering birds\, as well as late butterflies and flowers. Bring footwear for wet ground and binoculars\, if you have them. Accessible by bus\, parking free at weekends. Families welcome. \nWe’ll meet on the footpath from Field Lane to Heslington Church. Booking is required. \nTo book\, email: robin.perutz@york.ac.uk
URL:https://yorkenvironmentfestival.org.uk/event/nature-walk-university-of-york/
LOCATION:Heslington Church\, Heslington Church\, Field Ln\, Heslington\, York\, YO10 5ED
ATTACH;FMTTYPE=image/jpeg:https://yorkenvironmentfestival.org.uk/wp-content/uploads/2024/08/USE_P7315396-scaled-e1725025406829.jpg
END:VEVENT
END:VCALENDAR