BEGIN:VCALENDAR
VERSION:2.0
PRODID:-//York Environment Festival - ECPv6.15.20//NONSGML v1.0//EN
CALSCALE:GREGORIAN
METHOD:PUBLISH
X-WR-CALNAME:York Environment Festival
X-ORIGINAL-URL:https://yorkenvironmentfestival.org.uk
X-WR-CALDESC:Events for York Environment Festival
REFRESH-INTERVAL;VALUE=DURATION:PT1H
X-Robots-Tag:noindex
X-PUBLISHED-TTL:PT1H
BEGIN:VTIMEZONE
TZID:UTC
BEGIN:STANDARD
TZOFFSETFROM:+0000
TZOFFSETTO:+0000
TZNAME:UTC
DTSTART:20220101T000000
END:STANDARD
END:VTIMEZONE
BEGIN:VEVENT
DTSTART;TZID=UTC:20251003T190000
DTEND;TZID=UTC:20251003T210000
DTSTAMP:20260420T161529
CREATED:20250830T214532Z
LAST-MODIFIED:20250831T143740Z
UID:10000301-1759518000-1759525200@yorkenvironmentfestival.org.uk
SUMMARY:Friends of the Earth present an Audience with our Representatives - Local\, Regional and National
DESCRIPTION:An invitation to meet York politicians and debate the city’s place in the local\, regional and national environment. \nRachael Maskell: MP York Central\nCllr. Kilbane: York & North Yorks. Deputy Mayor\, Combined Authority Member\nCllr. Douglas: Leader of City Council\, Combined Authority member\, Vice Chair of Yorks. & Humber Climate Commission\nCllr. Kent: City Council Exec. for Environment \nQuestions can be submitted in advance but contributions will also be taken from the floor on the night. \nIf you are planning to attend\, you should register here. \nThis form will also give you the opportunity to submit a question for the panel. \nPlease note the venue is fully accessible. Those under 16 should be accompanied by a responsible adult. \nDonations towards Friends of the Earth accepted.
URL:https://yorkenvironmentfestival.org.uk/event/friends-of-the-earth-present-an-audience-with-our-representatives-local-regional-and-national/
LOCATION:Central Methodist Church\, Central Methodist Church St. Saviourgate\, York\, YO1 8NQ\, United Kingdom
CATEGORIES:Building Sustainably,Climate Justice
ATTACH;FMTTYPE=image/jpeg:https://yorkenvironmentfestival.org.uk/wp-content/uploads/YEF25/event-49-scaled.jpg
END:VEVENT
BEGIN:VEVENT
DTSTART;TZID=UTC:20241004T190000
DTEND;TZID=UTC:20241004T210000
DTSTAMP:20260420T161529
CREATED:20240829T090411Z
LAST-MODIFIED:20260304T224949Z
UID:10000136-1728068400-1728075600@yorkenvironmentfestival.org.uk
SUMMARY:Friends of the Earth invite you to meet four leading Councillors for a discussion on York’s environment
DESCRIPTION:Take part in an in-person environmental Q&A with our panel: \nJenny Kent – Executive Member for Environment and Climate Emergency  \nMichael Pavlovic – Executive Member for Housing and Planning  \nKate Ravilious – Executive Member for Transport  \nStephen Fenton – Chair of Climate Change Scrutiny Committee \nYou can register to attend the event and submit a question by using this link: \nhttps://actionnetwork.org/events/friends-of-the-earth-invite-you-to-meet-four-key-city-councillors-for-a-discussion-on-yorks-environment \nQuestions will also be taken from the floor on the night. \nMain Hall\, York CVS 15 Priory St\, York YO1 6ET \n*Those under 16 should be accompanied by a responsible adult. \n 
URL:https://yorkenvironmentfestival.org.uk/event/friends-of-the-earth-audience-with-councillors/
LOCATION:Priory Street Community Centre\, 15 Priory Street\, York\, YO1 6ET
ATTACH;FMTTYPE=image/jpeg:https://yorkenvironmentfestival.org.uk/wp-content/uploads/2024/08/IMG-0588-scaled-e1725055118742.jpg
END:VEVENT
BEGIN:VEVENT
DTSTART;TZID=UTC:20231004T190000
DTEND;TZID=UTC:20231004T210000
DTSTAMP:20260420T161529
CREATED:20230903T191957Z
LAST-MODIFIED:20260321T182716Z
UID:10000332-1696446000-1696453200@yorkenvironmentfestival.org.uk
SUMMARY:Friends of the Earth present: An Audience with the Executive Members for the Environment and Climate Emergency
DESCRIPTION:This is an old event from 2023. For 2025 events\, click the events tab above.  \n\n\n\n\n\n\nCllr Kate Ravilious\n\n\n\n\n\n\n\nCllr Jenny Kent\n\n\n\n\n\n\nEvent Description \n\n\n\nAn invitation to meet Cllrs. Jenny Kent and Kate Ravilious for a Q&A on the Council’s priorities for York’s environment and climate emergency commitments. \n\n\n\nWhat are your priorities for the city in tackling climate change and other green issues? This is a chance to listen\, share opinions and engage in creative debate about our future. \n\n\n\nQuestions can be submitted in advance at the link below but contributions will also be taken from the floor on the night. \n\n\n\nThis venue has wheelchair access and a hearing loop available and Castle car park is nearby. \n\n\n\nOrganised by: York Friends of the Earth Local Area Group Campaigns \n\n\n\nWhere: Friargate Friends Meeting House\, Friargate\, YO1 9RL \n\n\n\nWhen: Wednesday 4 October\, 19:00 – 21:00 \n\n\n\nBooking: To book a place and/or submit a question\, click here. For more information\, please contact yorkfoecoord@gmail.com.
URL:https://yorkenvironmentfestival.org.uk/event/friends-of-the-earth-audience-with-executive-members/
LOCATION:Friargate Quaker Meeting House\, Friargate Quaker Meeting House\, Friargate\, York\, YO1 9RL\, United Kingdom
END:VEVENT
END:VCALENDAR