BEGIN:VCALENDAR
VERSION:2.0
PRODID:-//York Environment Festival - ECPv6.15.20//NONSGML v1.0//EN
CALSCALE:GREGORIAN
METHOD:PUBLISH
X-ORIGINAL-URL:https://yorkenvironmentfestival.org.uk
X-WR-CALDESC:Events for York Environment Festival
REFRESH-INTERVAL;VALUE=DURATION:PT1H
X-Robots-Tag:noindex
X-PUBLISHED-TTL:PT1H
BEGIN:VTIMEZONE
TZID:UTC
BEGIN:STANDARD
TZOFFSETFROM:+0000
TZOFFSETTO:+0000
TZNAME:UTC
DTSTART:20240101T000000
END:STANDARD
END:VTIMEZONE
BEGIN:VEVENT
DTSTART;TZID=UTC:20251009T173000
DTEND;TZID=UTC:20251009T190000
DTSTAMP:20260420T005911
CREATED:20250818T205142Z
LAST-MODIFIED:20260304T230529Z
UID:10000237-1760031000-1760036400@yorkenvironmentfestival.org.uk
SUMMARY:No Jobs On a Dead Planet - Organising For A Just Transition in Workplaces
DESCRIPTION:A panel style meeting with speakers and time for questions/discussion. There will be action points for people to take away so that they can organise around climate in their workplace even if they have never done this before. \n2026 is designated as a year of climate activity across the trade union movement\, with the aim to come up with concrete action to tackle the climate emergency – both in the here and now\, and as part of the just transition to the green jobs needed for a sustainable future. \nSuitable for ages 12+. \nBooking is required for this event\, and can be done here. This is a hybrid event.
URL:https://yorkenvironmentfestival.org.uk/event/no-jobs-on-a-dead-planet/
LOCATION:Priory Street Community Centre\, 15 Priory Street\, York\, YO1 6ET
CATEGORIES:Climate Justice,Learning,Sustainable Business,York Opens Green Spaces
ATTACH;FMTTYPE=image/jpeg:https://yorkenvironmentfestival.org.uk/wp-content/uploads/2025/08/York-Environment-Week-2025.jpeg
END:VEVENT
END:VCALENDAR