BEGIN:VCALENDAR
VERSION:2.0
PRODID:-//York Environment Festival - ECPv6.15.20//NONSGML v1.0//EN
CALSCALE:GREGORIAN
METHOD:PUBLISH
X-WR-CALNAME:York Environment Festival
X-ORIGINAL-URL:https://yorkenvironmentfestival.org.uk
X-WR-CALDESC:Events for York Environment Festival
REFRESH-INTERVAL;VALUE=DURATION:PT1H
X-Robots-Tag:noindex
X-PUBLISHED-TTL:PT1H
BEGIN:VTIMEZONE
TZID:UTC
BEGIN:STANDARD
TZOFFSETFROM:+0000
TZOFFSETTO:+0000
TZNAME:UTC
DTSTART:20240101T000000
END:STANDARD
END:VTIMEZONE
BEGIN:VEVENT
DTSTART;TZID=UTC:20251001T110000
DTEND;TZID=UTC:20251001T114000
DTSTAMP:20260420T042158
CREATED:20250825T124309Z
LAST-MODIFIED:20260304T224423Z
UID:10000263-1759316400-1759318800@yorkenvironmentfestival.org.uk
SUMMARY:Leading Environmental Education: Case Studies & Personalized Curriculum Support
DESCRIPTION:This event introduces environmental education at the upper secondary level\, showcasing award-winning programs recognized by UNESCO as case studies. It also offers free advisory support for university students and educators interested in developing their own environmental curricula. Ideal for educators passionate about sustainability\, the event provides first-hand insights into leading practices and the chance to receive personalized guidance in curriculum design. \nSuitable for ages 16+. \nThis event will be online only. Please use the following details to join: \n\nhttps://us04web.zoom.us/j/77006444948?pwd=yAzArtqL4tQifdxAMIZbLKsJejNXAp.1\nMeeting ID: 770 0644 4948\nPassword: 6Mg7Y5
URL:https://yorkenvironmentfestival.org.uk/event/environmental-education-case-studies-curriculum-support/
CATEGORIES:Learning
ATTACH;FMTTYPE=image/jpeg:https://yorkenvironmentfestival.org.uk/wp-content/uploads/YEF25/event-26-scaled.jpg
LOCATION:https://yorkenvironmentfestival.org.uk/event/environmental-education-case-studies-curriculum-support/
END:VEVENT
END:VCALENDAR