BEGIN:VCALENDAR
VERSION:2.0
PRODID:-//York Environment Festival - ECPv6.15.20//NONSGML v1.0//EN
CALSCALE:GREGORIAN
METHOD:PUBLISH
X-ORIGINAL-URL:https://yorkenvironmentfestival.org.uk
X-WR-CALDESC:Events for York Environment Festival
REFRESH-INTERVAL;VALUE=DURATION:PT1H
X-Robots-Tag:noindex
X-PUBLISHED-TTL:PT1H
BEGIN:VTIMEZONE
TZID:UTC
BEGIN:STANDARD
TZOFFSETFROM:+0000
TZOFFSETTO:+0000
TZNAME:UTC
DTSTART:20240101T000000
END:STANDARD
END:VTIMEZONE
BEGIN:VEVENT
DTSTART;TZID=UTC:20251016T190000
DTEND;TZID=UTC:20251016T200000
DTSTAMP:20260421T013418
CREATED:20250829T202306Z
LAST-MODIFIED:20260304T230018Z
UID:10000273-1760641200-1760644800@yorkenvironmentfestival.org.uk
SUMMARY:The Humber Hovercraft - a more sustainable way for Yorkshire people to travel?
DESCRIPTION:This creative workshop is a follow-up to a York Festival of Ideas keynote. \nIt will tell the secret story of the HUMBER HOVERCRAFT and make a case for more sustainable transport here in the region in the future. \nThe Humber Hovercraft ran between Grimsby and Hull for a short period at the end of the 1960s. This method of crossing the river captured imaginations back in 1969 and inspired a new creative project in the north of England that took place over the past 12 months. \nNo booking required.
URL:https://yorkenvironmentfestival.org.uk/event/humber-hovercraft-sustainble-travel/
LOCATION:The House of Trembling Madness\, 48 Stonegate\, York\, YO1 8AS\, United Kingdom
CATEGORIES:Learning
ATTACH;FMTTYPE=image/png:https://yorkenvironmentfestival.org.uk/wp-content/uploads/2025/08/for-website.png
END:VEVENT
END:VCALENDAR