BEGIN:VCALENDAR
VERSION:2.0
PRODID:-//York Environment Festival - ECPv6.15.20//NONSGML v1.0//EN
CALSCALE:GREGORIAN
METHOD:PUBLISH
X-WR-CALNAME:York Environment Festival
X-ORIGINAL-URL:https://yorkenvironmentfestival.org.uk
X-WR-CALDESC:Events for York Environment Festival
REFRESH-INTERVAL;VALUE=DURATION:PT1H
X-Robots-Tag:noindex
X-PUBLISHED-TTL:PT1H
BEGIN:VTIMEZONE
TZID:UTC
BEGIN:STANDARD
TZOFFSETFROM:+0000
TZOFFSETTO:+0000
TZNAME:UTC
DTSTART:20230101T000000
END:STANDARD
END:VTIMEZONE
BEGIN:VEVENT
DTSTART;TZID=UTC:20251020T183000
DTEND;TZID=UTC:20251020T194500
DTSTAMP:20260419T155459
CREATED:20250914T103956Z
LAST-MODIFIED:20250922T182213Z
UID:10000314-1760985000-1760989500@yorkenvironmentfestival.org.uk
SUMMARY:Axe Drax: Documentary Screening
DESCRIPTION:Join Axe Drax for a screening of documentary on York’s local big polluter: Drax Power Station. Learn about the resistance and join the fight! \nSuitable for ages 10+ \nDonations are welcome and will be put towards the ongoing efforts of the Axe Drax organisation. \n 
URL:https://yorkenvironmentfestival.org.uk/event/axe-drax-documentary-screening/
LOCATION:Spark York\, 17-21 Piccadilly\, York\, YO1 9PB
CATEGORIES:Climate Justice,Learning
ATTACH;FMTTYPE=image/jpeg:https://yorkenvironmentfestival.org.uk/wp-content/uploads/2025/09/axe-drax.jpg
END:VEVENT
BEGIN:VEVENT
DTSTART;TZID=UTC:20240920T190000
DTEND;TZID=UTC:20240920T203000
DTSTAMP:20260419T155459
CREATED:20240829T175227Z
LAST-MODIFIED:20260304T223237Z
UID:10000118-1726858800-1726864200@yorkenvironmentfestival.org.uk
SUMMARY:Are Trees the New Fossil Fuel? How Drax Harms People and Planet
DESCRIPTION:Join our screening to find out how Drax\, the UK’s biggest carbon emitter and world’s biggest tree burning power station profits from environmental racism\, social injustice and climate collapse. Paid for by your energy bills! \nThere will be a documentary followed by a shorter feature film. This will be followed by a talk about our ongoing campaign and how we can win! \nThis is for lovers of nature\, social justice and York locals. \nPlease book online: https://actionnetwork.org/events/axe-drax-at-york-environment-week-how-drax-harms-people-and-planet-talk-and-screening/
URL:https://yorkenvironmentfestival.org.uk/event/are-trees-the-new-fossil-fuel-drax/
LOCATION:Spark York\, 17-21 Piccadilly\, York\, YO1 9PB
ATTACH;FMTTYPE=image/jpeg:https://yorkenvironmentfestival.org.uk/wp-content/uploads/2024/08/YEW-email-axe-drax-image.jpg
END:VEVENT
END:VCALENDAR