BEGIN:VCALENDAR
VERSION:2.0
PRODID:-//York Environment Festival - ECPv6.15.20//NONSGML v1.0//EN
CALSCALE:GREGORIAN
METHOD:PUBLISH
X-ORIGINAL-URL:https://yorkenvironmentfestival.org.uk
X-WR-CALDESC:Events for York Environment Festival
REFRESH-INTERVAL;VALUE=DURATION:PT1H
X-Robots-Tag:noindex
X-PUBLISHED-TTL:PT1H
BEGIN:VTIMEZONE
TZID:UTC
BEGIN:STANDARD
TZOFFSETFROM:+0000
TZOFFSETTO:+0000
TZNAME:UTC
DTSTART:20230101T000000
END:STANDARD
END:VTIMEZONE
BEGIN:VEVENT
DTSTART;TZID=UTC:20241015T190000
DTEND;TZID=UTC:20241015T200000
DTSTAMP:20260419T230554
CREATED:20240830T144755Z
LAST-MODIFIED:20240830T145051Z
UID:10000131-1729018800-1729022400@yorkenvironmentfestival.org.uk
SUMMARY:Art in creation @ York Minster
DESCRIPTION:An opportunity to reflect upon environmental issues globally and locally\, by using art as a starting point for discussion and reflection. People will learn a little about the artwork chosen and how it speaks to the issues of the environment/climate justice/ global warming etc. \nThere will be an opportunity for discussion and questions. This is an event perfect for those wanting to explore these issues in a different way using art as a springboard. \nThis is an 18+ event. No booking required. \nEntry through the South Transept door. Blue badge parking is available on Deangate.
URL:https://yorkenvironmentfestival.org.uk/event/art-in-creation-york-minster/2024-10-15/
LOCATION:York Minster\, Minster Yard\, Deangate\, York\, YO1 7HH\, United Kingdom
ATTACH;FMTTYPE=image/jpeg:https://yorkenvironmentfestival.org.uk/wp-content/uploads/2024/08/YM-Art-In-Creation-scaled-e1725029335152.jpg
END:VEVENT
END:VCALENDAR