BEGIN:VCALENDAR
VERSION:2.0
PRODID:-//York Environment Festival - ECPv6.15.20//NONSGML v1.0//EN
CALSCALE:GREGORIAN
METHOD:PUBLISH
X-WR-CALNAME:York Environment Festival
X-ORIGINAL-URL:https://yorkenvironmentfestival.org.uk
X-WR-CALDESC:Events for York Environment Festival
REFRESH-INTERVAL;VALUE=DURATION:PT1H
X-Robots-Tag:noindex
X-PUBLISHED-TTL:PT1H
BEGIN:VTIMEZONE
TZID:UTC
BEGIN:STANDARD
TZOFFSETFROM:+0000
TZOFFSETTO:+0000
TZNAME:UTC
DTSTART:20230101T000000
END:STANDARD
END:VTIMEZONE
BEGIN:VEVENT
DTSTART;TZID=UTC:20241001T140000
DTEND;TZID=UTC:20241001T163000
DTSTAMP:20260422T152310
CREATED:20240830T202236Z
LAST-MODIFIED:20240904T082054Z
UID:10000163-1727791200-1727800200@yorkenvironmentfestival.org.uk
SUMMARY:Cycling Without Age Nature Rides
DESCRIPTION:Passenger Cycling Without Age Nature Rides on a Triobike\, starting from Cycle Heaven in Fulford.  \nRides take place at 2pm and 3:30pm in our comfortable Triobike. One of our brilliant volunteer pedallers will take you out for an hour on the bike to enjoy the green spaces around the south of the city. \nBooking essential via takethegreenroute@gmail.com  \nMore details here: https://yorkbikebelles.community/community-nature-rides/ \nThis is part of our Autumn Nature Programme with weekly nature walks\, rides and workshops until 9 December 2024
URL:https://yorkenvironmentfestival.org.uk/event/cycling-without-age-nature-rides/2024-10-01/
LOCATION:Cycle Heaven Hospital Fields\, 31 Hospital Fields Road\, Fulford\, York\, YO10 4FS
ATTACH;FMTTYPE=image/jpeg:https://yorkenvironmentfestival.org.uk/wp-content/uploads/2024/08/bikebellescyclingwithoutage.jpg
END:VEVENT
BEGIN:VEVENT
DTSTART;TZID=UTC:20241001T190000
DTEND;TZID=UTC:20241001T200000
DTSTAMP:20260422T152310
CREATED:20240830T144755Z
LAST-MODIFIED:20240830T145051Z
UID:10000129-1727809200-1727812800@yorkenvironmentfestival.org.uk
SUMMARY:Art in creation @ York Minster
DESCRIPTION:An opportunity to reflect upon environmental issues globally and locally\, by using art as a starting point for discussion and reflection. People will learn a little about the artwork chosen and how it speaks to the issues of the environment/climate justice/ global warming etc. \nThere will be an opportunity for discussion and questions. This is an event perfect for those wanting to explore these issues in a different way using art as a springboard. \nThis is an 18+ event. No booking required. \nEntry through the South Transept door. Blue badge parking is available on Deangate.
URL:https://yorkenvironmentfestival.org.uk/event/art-in-creation-york-minster/2024-10-01/
LOCATION:York Minster\, Minster Yard\, Deangate\, York\, YO1 7HH\, United Kingdom
ATTACH;FMTTYPE=image/jpeg:https://yorkenvironmentfestival.org.uk/wp-content/uploads/2024/08/YM-Art-In-Creation-scaled-e1725029335152.jpg
END:VEVENT
BEGIN:VEVENT
DTSTART;TZID=UTC:20241001T190000
DTEND;TZID=UTC:20241001T203000
DTSTAMP:20260422T152310
CREATED:20240829T185216Z
LAST-MODIFIED:20260304T223440Z
UID:10000117-1727809200-1727814600@yorkenvironmentfestival.org.uk
SUMMARY:Beyond Drax: A Real Green Future for Yorkshire and the Humber
DESCRIPTION:We all know we need real green jobs and a transformation of society to deal with climate breakdown. But what does this look like for Yorkshire? How do we make sure that workers and communities benefit rather than losing out? We’ll be answering these questions and more with a look at new research from the Stop Burning Trees Coalition on what a real just transition for Yorkshire can look like and discussing how we can get there. \nplease book at: \nhttps://actionnetwork.org/events/beyond-drax-a-real-green-future-for-yorkshire-and-the-humber/
URL:https://yorkenvironmentfestival.org.uk/event/beyond-drax-green-future/
LOCATION:Spark York\, 17-21 Piccadilly\, York\, YO1 9PB
ATTACH;FMTTYPE=image/jpeg:https://yorkenvironmentfestival.org.uk/wp-content/uploads/2024/08/YEW-sbtc-image.jpg
END:VEVENT
END:VCALENDAR