BEGIN:VCALENDAR
VERSION:2.0
PRODID:-//York Environment Festival - ECPv6.15.20//NONSGML v1.0//EN
CALSCALE:GREGORIAN
METHOD:PUBLISH
X-WR-CALNAME:York Environment Festival
X-ORIGINAL-URL:https://yorkenvironmentfestival.org.uk
X-WR-CALDESC:Events for York Environment Festival
REFRESH-INTERVAL;VALUE=DURATION:PT1H
X-Robots-Tag:noindex
X-PUBLISHED-TTL:PT1H
BEGIN:VTIMEZONE
TZID:UTC
BEGIN:STANDARD
TZOFFSETFROM:+0000
TZOFFSETTO:+0000
TZNAME:UTC
DTSTART:20230101T000000
END:STANDARD
END:VTIMEZONE
BEGIN:VEVENT
DTSTART;TZID=UTC:20240914T140000
DTEND;TZID=UTC:20240914T153000
DTSTAMP:20260421T104918
CREATED:20240901T083800Z
LAST-MODIFIED:20240902T181436Z
UID:10000217-1726322400-1726327800@yorkenvironmentfestival.org.uk
SUMMARY:Bird-watching Walk - University of York
DESCRIPTION:A walk for people who would like to see some of the wide variety of birds to be found on the university campus. Please note: ground may be rough and muddy. Organised by York Ornithological Club. \n\nLocation: meet at entrance to Heslington Church\, Field Lane\nTime: 14:00\nDuration: 2 miles\, 1 to 1.5 hours\n\nOne of the many walks put on by York Walking festival\, more information at:\nhttps://www.itravelyork.info/yorkwalkingfestival
URL:https://yorkenvironmentfestival.org.uk/event/bird-watching-walk-university-of-york/
CATEGORIES:York Walking Festival
ATTACH;FMTTYPE=image/jpeg:https://yorkenvironmentfestival.org.uk/wp-content/uploads/2024/09/york_walking_festival_2024.jpg
END:VEVENT
BEGIN:VEVENT
DTSTART;TZID=UTC:20240914T193000
DTEND;TZID=UTC:20240914T210000
DTSTAMP:20260421T104918
CREATED:20240901T083557Z
LAST-MODIFIED:20240902T181406Z
UID:10000218-1726342200-1726347600@yorkenvironmentfestival.org.uk
SUMMARY:Bat Walk
DESCRIPTION:See and hear our most common bat species which live and feed in the grounds of the university campus. \nThe walk is easy to moderate and suitable for wheelchair users and many with mobility issues. There are steps along the route but there are alternate ramps available. There are some short parts of the walk that are slightly uphill. \nWalk organised by East Yorkshire Bat Group. \n\nLocation: meet behind the Natural Sciences Biology R block on Wentworth Way\, University of York. Buses to near the starting point are the 6\, 66\, and 67. Parking available (use What3Words to find the Bat Walk location)\nTime: 19:30\nDuration: Less than a mile\, 1 to 1.5 hours\n\nOne of the many walks put on by York Walking festival\, more information at:\nhttps://www.itravelyork.info/yorkwalkingfestival
URL:https://yorkenvironmentfestival.org.uk/event/bat-walk/
CATEGORIES:York Walking Festival
ATTACH;FMTTYPE=image/jpeg:https://yorkenvironmentfestival.org.uk/wp-content/uploads/2024/09/york_walking_festival_2024.jpg
END:VEVENT
BEGIN:VEVENT
DTSTART;TZID=UTC:20240914T193000
DTEND;TZID=UTC:20240914T230000
DTSTAMP:20260421T104918
CREATED:20240830T205340Z
LAST-MODIFIED:20260304T224228Z
UID:10000141-1726342200-1726354800@yorkenvironmentfestival.org.uk
SUMMARY:Down to the Woods - an evening of storytelling
DESCRIPTION:Lara McClure and guest storytellers bring you a feast of traditional tales from the heart of the forest! Woodland is as full of rich stories now as it has always been\, perennial narratives that we need…expect to be inspired and moved. \nSensory objects will be available\, providing support for neurodiverse attendees but also experience-enhancing for all attendees. \nThe Arts barge is an ongoing project to refurbish this noble old vessel as an arts space. The next part of that is the rebuilding of the wheelhouse! Any contributions will go towards this. \nThis event is suitable for ages 12+. \n 
URL:https://yorkenvironmentfestival.org.uk/event/down-to-the-woods-storytelling-evening/
LOCATION:The Arts Barge\, Moorings\, Selby Tony Foss Basin\, York\, Yorkshire\, YO10 4AB
ATTACH;FMTTYPE=image/jpeg:https://yorkenvironmentfestival.org.uk/wp-content/uploads/2024/08/Tree-2-e1724961633740.jpeg
ORGANIZER;CN="Lara McClure storytelling and the Arts":MAILTO:laramcclure@nca.ac.uk
GEO:53.953152969189;-1.0786795333705
X-APPLE-STRUCTURED-LOCATION;VALUE=URI;X-ADDRESS=The Arts Barge Moorings Selby Tony Foss Basin York Yorkshire YO10 4AB;X-APPLE-RADIUS=500;X-TITLE=Moorings\, Selby Tony Foss Basin:geo:-1.0786795333705,53.953152969189
END:VEVENT
BEGIN:VEVENT
DTSTART;TZID=UTC:20240915T130000
DTEND;TZID=UTC:20240915T160000
DTSTAMP:20260421T104918
CREATED:20240830T145717Z
LAST-MODIFIED:20240830T153537Z
UID:10000071-1726405200-1726416000@yorkenvironmentfestival.org.uk
SUMMARY:Hello Autumn!
DESCRIPTION:Join us for our annual ‘Autumn Fayre’ to celebrate the transition from summer to autumn\, connecting with nature and the beauty of the changing seasons. \nEnjoy apple pressing\, apple ID\, apple olympics\, and apple crafts for children. Other activities include traditional crafts like weaving and carving\, storytelling\, homemade bakes and preserves\, a foraging walk and live music. \nThis event is free to attend; some activities require a small fee or donation. Donations will go towards costs of materials and also general donations to the charity to help fund our work in maintaining and improving the Park. \nSome events/crafts require booking\, see website link below.
URL:https://yorkenvironmentfestival.org.uk/event/hello-autumn/
LOCATION:Rowntree Park\, Terry Avenue\, York\, YO23 1JQ
ATTACH;FMTTYPE=image/jpeg:https://yorkenvironmentfestival.org.uk/wp-content/uploads/2024/08/image_123650291-e1725029863586.jpg
END:VEVENT
BEGIN:VEVENT
DTSTART;TZID=UTC:20240915T140000
DTEND;TZID=UTC:20240915T153000
DTSTAMP:20260421T104918
CREATED:20240901T084107Z
LAST-MODIFIED:20260304T224816Z
UID:10000219-1726408800-1726414200@yorkenvironmentfestival.org.uk
SUMMARY:Foraging Walk at Rowntree Park- NO PLACES LEFT
DESCRIPTION:Local forager Carl Wain will be talking about the different plants in Rowntrees Park\, which ones are edible and different uses of the plants. We’ll discuss how you can forage safely and will also be recording the flora we find so we can start to get a better understanding of our immediate environment and if there are any changes in the plant life over the years. Some parts of the walk will be off-path. \nWalk organized by Planet Southbank. \n\nLocation: Rowntree Park\, at the bottom of the steps below Rowntree Café\nTime: 14:00\nDuration: Less than one mile\, 1 to 1.5 hours\n\nDogs welcome (on a lead). No age restriction – children welcome. \nBook your free tickets from Planet Southbank with an option to donate to the walk costs. \nThis is one of the many  walks put on by York Walking festival\, more information at: \nhttps://www.itravelyork.info/yorkwalkingfestival
URL:https://yorkenvironmentfestival.org.uk/event/foraging-walk-rowntree-park/
CATEGORIES:York Walking Festival
ATTACH;FMTTYPE=image/jpeg:https://yorkenvironmentfestival.org.uk/wp-content/uploads/2024/09/york_walking_festival_2024.jpg
END:VEVENT
BEGIN:VEVENT
DTSTART;TZID=UTC:20240917T090000
DTEND;TZID=UTC:20240917T163000
DTSTAMP:20260421T104918
CREATED:20240830T190751Z
LAST-MODIFIED:20240830T195957Z
UID:10000178-1726563600-1726590600@yorkenvironmentfestival.org.uk
SUMMARY:Practical Conservation Volunteer
DESCRIPTION:Practical outdoor volunteer sessions in and around York. Our tasks vary from pond building to tree planting. This is a great chance to learn skills\, make friends and enjoy being outdoors whilst carrying out practical work to help improve places for people and the environment. \nWe are a friendly mixed-age group\, we are an inclusive organisation and there is no knowledge or previous experience needed for you to join in. Note: this activity is only suitable for ages 15+. \nThis event runs every Tuesday\, Wednesday and Thursday\, and during York Environment Weeks we’ll also meet on Sunday 8 September and Sunday 22 September. \nPlease email york@tcv.org.uk to tell us which sessions you are joining. \nOnce you’ve booked\, you can either meet us on-site or at the Tang Hall community centre at 9am. Our minibus can transport up to 8 volunteers to site.
URL:https://yorkenvironmentfestival.org.uk/event/practical-conservation-volunteer/2024-09-17/
LOCATION:Tang Hall Community Centre\, Fifth Ave\, Tang Hall\, York\, York\, YO31 0UG
ATTACH;FMTTYPE=image/jpeg:https://yorkenvironmentfestival.org.uk/wp-content/uploads/2024/08/20240605_Group_JB-scaled-e1725044844391.jpg
END:VEVENT
BEGIN:VEVENT
DTSTART;TZID=UTC:20240917T183000
DTEND;TZID=UTC:20240917T200000
DTSTAMP:20260421T104918
CREATED:20240829T083705Z
LAST-MODIFIED:20240830T211212Z
UID:10000153-1726597800-1726603200@yorkenvironmentfestival.org.uk
SUMMARY:Climate Cafe
DESCRIPTION:A climate cafe offers a place where fears & hopes about our climate crisis can be safely shared over a drink & cake. It’s a confidential & respectful space where people can talk about what the climate & ecological crisis means for them\, and listen to others. \nWe run a monthly cafe in association with Planet South Bank\, using a model from the Climate Psychology Alliance which trained our facilitators. \nThis event is in Rowntree Park from 6.30pm. Please meet at the Dovecot near the pond \nFor people 14 years and older. \nBooking: https://www.eventbrite.com/e/york-climate-cafe-outdoors-in-the-park-tickets-994962257897?aff=ebdssbdestsearch
URL:https://yorkenvironmentfestival.org.uk/event/climate-cafe/
LOCATION:Rowntree Park\, Terry Avenue\, York\, YO23 1JQ
ATTACH;FMTTYPE=image/jpeg:https://yorkenvironmentfestival.org.uk/wp-content/uploads/2024/08/17240801559532561846996601837384.jpg
ORGANIZER;CN="York Climate Cafe":MAILTO:bronwen@bronjohn.plus.com
END:VEVENT
BEGIN:VEVENT
DTSTART;TZID=UTC:20240918T090000
DTEND;TZID=UTC:20240918T163000
DTSTAMP:20260421T104918
CREATED:20240830T190751Z
LAST-MODIFIED:20240830T195957Z
UID:10000179-1726650000-1726677000@yorkenvironmentfestival.org.uk
SUMMARY:Practical Conservation Volunteer
DESCRIPTION:Practical outdoor volunteer sessions in and around York. Our tasks vary from pond building to tree planting. This is a great chance to learn skills\, make friends and enjoy being outdoors whilst carrying out practical work to help improve places for people and the environment. \nWe are a friendly mixed-age group\, we are an inclusive organisation and there is no knowledge or previous experience needed for you to join in. Note: this activity is only suitable for ages 15+. \nThis event runs every Tuesday\, Wednesday and Thursday\, and during York Environment Weeks we’ll also meet on Sunday 8 September and Sunday 22 September. \nPlease email york@tcv.org.uk to tell us which sessions you are joining. \nOnce you’ve booked\, you can either meet us on-site or at the Tang Hall community centre at 9am. Our minibus can transport up to 8 volunteers to site.
URL:https://yorkenvironmentfestival.org.uk/event/practical-conservation-volunteer/2024-09-18/
LOCATION:Tang Hall Community Centre\, Fifth Ave\, Tang Hall\, York\, York\, YO31 0UG
ATTACH;FMTTYPE=image/jpeg:https://yorkenvironmentfestival.org.uk/wp-content/uploads/2024/08/20240605_Group_JB-scaled-e1725044844391.jpg
END:VEVENT
BEGIN:VEVENT
DTSTART;TZID=UTC:20240918T100000
DTEND;TZID=UTC:20240918T120000
DTSTAMP:20260421T104918
CREATED:20240901T084404Z
LAST-MODIFIED:20240902T181141Z
UID:10000220-1726653600-1726660800@yorkenvironmentfestival.org.uk
SUMMARY:Wildwatch Walk – St Nicks
DESCRIPTION:A weekly walk looking at the wildlife to be found within this popular local nature reserve. \n\nLocation: meet at St Nicholas Fields Nature Reserve\, Environment Centre Gate\, Rawdon Avenue.\nTime: 10:00\nDuration: 1 to 1.5 miles\, 2 hours\n\nThis is one of the many walks put on by York Walking festival\, more information at: \nhttps://www.itravelyork.info/yorkwalkingfestival
URL:https://yorkenvironmentfestival.org.uk/event/wildwatch-walk-st-nicks/
CATEGORIES:York Walking Festival
ATTACH;FMTTYPE=image/jpeg:https://yorkenvironmentfestival.org.uk/wp-content/uploads/2024/09/york_walking_festival_2024.jpg
END:VEVENT
BEGIN:VEVENT
DTSTART;TZID=UTC:20240918T100000
DTEND;TZID=UTC:20240918T123000
DTSTAMP:20260421T104918
CREATED:20240830T131902Z
LAST-MODIFIED:20240830T132114Z
UID:10000156-1726653600-1726662600@yorkenvironmentfestival.org.uk
SUMMARY:Forty Years of Wildlife Gardening
DESCRIPTION:For York Environment Weeks\, garden-owner Vanessa Cook will be hosting two walks around her wildlife garden at Stillingfleet Lodge. \nThis garden has always been managed organically and Vanessa will share the ups and downs of managing a garden with wildlife to the fore. In an entertaining walk you will learn how this stunning garden has developed and evolved over the last 40 years. \nPerfect for people who want to learn more about wildlife gardening. Meet at the entrance hut! \nBooking required: https://stillingfleetlodgenurseries.co.uk/event/forty-years-of-wildlife-gardening/
URL:https://yorkenvironmentfestival.org.uk/event/forty-years-of-wildlife-gardening/
LOCATION:Stillingfleet Lodge Gardens\, Stewart Ln\, Stillingfleet\, York\, Yorkshire\, YO19 6HP\, United Kingdom
ATTACH;FMTTYPE=image/jpeg:https://yorkenvironmentfestival.org.uk/wp-content/uploads/2024/08/Peacock-butterfly-on-Inulas-1-e1725023896485.jpg
END:VEVENT
BEGIN:VEVENT
DTSTART;TZID=UTC:20240918T120000
DTEND;TZID=UTC:20240918T130000
DTSTAMP:20260421T104918
CREATED:20240830T192916Z
LAST-MODIFIED:20260304T224344Z
UID:10000127-1726660800-1726664400@yorkenvironmentfestival.org.uk
SUMMARY:Edible York at Peasholme Green
DESCRIPTION:Drop in and see what edibles are growing in September\, take samples of herbs and look out for bees and other wildlife. Experience edible gardening in an inner-city garden – at Peasholme Green. The beds are across the road from The Black Swan (as pictured above). \nThe Edible York team will talk to visitors about the garden. We aim to inspire more growing in gardens\, pots and window boxes. Our Abundance team will be on hand with local apples to try. \nFor all ages\, but children under 16 need an adult carer. No booking needed. All donations will go towards seeds and compost for maintaining Edible York.
URL:https://yorkenvironmentfestival.org.uk/event/edible-york-peasholme-green/
LOCATION:Peasholme Green\, Peasholme Green\, York
CATEGORIES:York Opens Green Spaces
ATTACH;FMTTYPE=image/jpeg:https://yorkenvironmentfestival.org.uk/wp-content/uploads/2024/08/IMG-6422.jpeg
GEO:53.960199;-1.075991
X-APPLE-STRUCTURED-LOCATION;VALUE=URI;X-ADDRESS=Peasholme Green Peasholme Green York;X-APPLE-RADIUS=500;X-TITLE=Peasholme Green:geo:-1.075991,53.960199
END:VEVENT
BEGIN:VEVENT
DTSTART;TZID=UTC:20240918T120000
DTEND;TZID=UTC:20240918T130000
DTSTAMP:20260421T104918
CREATED:20240830T104933Z
LAST-MODIFIED:20240830T211542Z
UID:10000068-1726660800-1726664400@yorkenvironmentfestival.org.uk
SUMMARY:Multi-Sensory Nature Walk
DESCRIPTION:This multi-sensory nature walk will allow people to experience their surroundings using their senses\, smartphone technology and good old pencil and paper! \nUsing soundscaping\, citizen science and nature journaling\, we will explore the nature-human relationship in fun ways that contribute to one’s well-being\, as well as biodiversity research and conservation. \nDress comfortably for walking outdoors. \nDownloading the free smartphone apps “iNaturalist” and “Seek by iNaturalist” beforehand would be ideal\, but not necessary. \nParticipants should be aged 6+. \nMeet at the entrance of the Berrick Saul building\, University of York Campus (West Campus). \nhttps://what3words.com/action.frame.grass. \n 
URL:https://yorkenvironmentfestival.org.uk/event/multi-sensory-nature-walk/
LOCATION:Berrick Saul Building\, University of York\, Harewood Way\, Heslington\, York\, YO10 5DD
ATTACH;FMTTYPE=image/jpeg:https://yorkenvironmentfestival.org.uk/wp-content/uploads/2024/08/USE_UoYcampus2-scaled-e1725052532530.jpg
END:VEVENT
BEGIN:VEVENT
DTSTART;TZID=UTC:20240918T183000
DTEND;TZID=UTC:20240918T193000
DTSTAMP:20260421T104918
CREATED:20240830T194716Z
LAST-MODIFIED:20260304T224751Z
UID:10000140-1726684200-1726687800@yorkenvironmentfestival.org.uk
SUMMARY:Food lovers in York - zero waste heroes!
DESCRIPTION:Come and be inspired about the ways we can use every scrap of food – from field to fork! Learn about zero waste champions through the inspiration of four very different organisations in York: \n\nFood Circle\nEdible York’s ‘Abundance Project’\nGrow Wild CIC at Beetle Bank Farm\nPlanet Food\n\nThis panel of four representatives will each speak about their organisation and the food waste initiatives that they use in their day-to-day running. There will be time for a Q&A afterwards. \nYou can come early and eat\, meet and mingle\, prior to the event\, at the Food Circle’s regular pop up market from 5pm \nFor an indication of numbers please book a free ticket through Eventbrite using this link however drop-ins are still welcome to just turn up: \nhttps://www.eventbrite.com/e/food-lovers-of-yorkbe-a-zero-waste-hero-tickets-980432870107?aff=ebdsshother&utm_share_source=listing_android \nAll donations will go towards Tanghall Community Centre running costs. \nOrganisations urls are:\n\n http://www.edibleyork.org.uk/edibleinitiatives/abundance/\n\nhttps://m.facebook.com/planetfoodyork/\n\nhttps://www.growwildyork.co.uk/\n\nhttps://www.foodcircleyork.co.uk/
URL:https://yorkenvironmentfestival.org.uk/event/food-lovers-zero-waste-heroes/
LOCATION:Tang Hall Community Centre\, Fifth Ave\, Tang Hall\, York\, York\, YO31 0UG
ATTACH;FMTTYPE=image/jpeg:https://yorkenvironmentfestival.org.uk/wp-content/uploads/2024/08/Screenshot_20240807_174651_Chrome-1.jpg
END:VEVENT
BEGIN:VEVENT
DTSTART;TZID=UTC:20240918T193000
DTEND;TZID=UTC:20240918T220000
DTSTAMP:20260421T104918
CREATED:20240829T190516Z
LAST-MODIFIED:20240831T111129Z
UID:10000144-1726687800-1726696800@yorkenvironmentfestival.org.uk
SUMMARY:YorkCliConnect Social & Networking
DESCRIPTION:As York Environment Weeks kick off we are bringing together people in our growing local community of climate and nature advocates for informal conversations over some drinks at The Den\, Micklegate Social. \nThis will be an unstructured and informal occasion\, so drop in whenever you like for as long as you like. So whether you’ve managed to make it to one of our events previously\, wanted to but couldn’t make it or are just interested to find out more/chat to others\, please come along.  \nFor ages 18+. Booking is optional but recommended – please reserve tickets here: https://www.eventbrite.co.uk/e/york-environment-week-24-york-cliconnect-social-tickets-970582888547?aff=oddtdtcreator
URL:https://yorkenvironmentfestival.org.uk/event/yorkcliconnect-social-networking/
LOCATION:Micklegate Social\, 148-150 Micklegate\, York\, YO1 6JX
ATTACH;FMTTYPE=image/jpeg:https://yorkenvironmentfestival.org.uk/wp-content/uploads/2024/08/YCC-YorkCliConnect-Social-Networking.jpg
END:VEVENT
END:VCALENDAR