BEGIN:VCALENDAR
VERSION:2.0
PRODID:-//York Environment Festival - ECPv6.15.20//NONSGML v1.0//EN
CALSCALE:GREGORIAN
METHOD:PUBLISH
X-WR-CALNAME:York Environment Festival
X-ORIGINAL-URL:https://yorkenvironmentfestival.org.uk
X-WR-CALDESC:Events for York Environment Festival
REFRESH-INTERVAL;VALUE=DURATION:PT1H
X-Robots-Tag:noindex
X-PUBLISHED-TTL:PT1H
BEGIN:VTIMEZONE
TZID:UTC
BEGIN:STANDARD
TZOFFSETFROM:+0000
TZOFFSETTO:+0000
TZNAME:UTC
DTSTART:20230101T000000
END:STANDARD
END:VTIMEZONE
BEGIN:VEVENT
DTSTART;TZID=UTC:20241002T090000
DTEND;TZID=UTC:20241002T163000
DTSTAMP:20260421T102009
CREATED:20240830T190751Z
LAST-MODIFIED:20240830T195957Z
UID:10000187-1727859600-1727886600@yorkenvironmentfestival.org.uk
SUMMARY:Practical Conservation Volunteer
DESCRIPTION:Practical outdoor volunteer sessions in and around York. Our tasks vary from pond building to tree planting. This is a great chance to learn skills\, make friends and enjoy being outdoors whilst carrying out practical work to help improve places for people and the environment. \nWe are a friendly mixed-age group\, we are an inclusive organisation and there is no knowledge or previous experience needed for you to join in. Note: this activity is only suitable for ages 15+. \nThis event runs every Tuesday\, Wednesday and Thursday\, and during York Environment Weeks we’ll also meet on Sunday 8 September and Sunday 22 September. \nPlease email york@tcv.org.uk to tell us which sessions you are joining. \nOnce you’ve booked\, you can either meet us on-site or at the Tang Hall community centre at 9am. Our minibus can transport up to 8 volunteers to site.
URL:https://yorkenvironmentfestival.org.uk/event/practical-conservation-volunteer/2024-10-02/
LOCATION:Tang Hall Community Centre\, Fifth Ave\, Tang Hall\, York\, York\, YO31 0UG
ATTACH;FMTTYPE=image/jpeg:https://yorkenvironmentfestival.org.uk/wp-content/uploads/2024/08/20240605_Group_JB-scaled-e1725044844391.jpg
END:VEVENT
BEGIN:VEVENT
DTSTART;TZID=UTC:20241002T123000
DTEND;TZID=UTC:20241002T133000
DTSTAMP:20260421T102009
CREATED:20240830T202908Z
LAST-MODIFIED:20240904T083353Z
UID:10000165-1727872200-1727875800@yorkenvironmentfestival.org.uk
SUMMARY:Wednesday Nature Walks
DESCRIPTION:Wednesday Nature Walks every Wednesday lunchtime at 12.30 pm. Meet in the middle of the Millennium Bridge. Just turn up! https://what3words.com/cheese.caked.wire \nShort\, inclusive walks of around an hour with around 1 mile of walking. \nThese nature walks include spotting the nature around us and taking time to pause and connect. \nGet in touch for any extra support. \nMore details here: https://yorkbikebelles.community/takethegreenroute/ \nThis is part of our Autumn Nature Programme with weekly nature walks\, rides and workshops until 9 December 2024
URL:https://yorkenvironmentfestival.org.uk/event/wednesday-nature-walks/2024-10-02/
LOCATION:Centre of Millenium Bridge
ATTACH;FMTTYPE=image/jpeg:https://yorkenvironmentfestival.org.uk/wp-content/uploads/2024/08/bikebellesnaturewalk-scaled-e1725054991925.jpg
GEO:53.945017994515;-1.0820104007397
END:VEVENT
END:VCALENDAR